BEGIN:VCALENDAR
METHOD:PUBLISH
PRODID:-//Moodle Pty Ltd//NONSGML Moodle Version 2024042201//EN
VERSION:2.0
BEGIN:VEVENT
UID:16727@academy.cbqaglobal.co.id
SUMMARY:Certified Internal Auditor ISO/IEC 27001:2022
DESCRIPTION:Certified Internal Auditor training is a two-day program coveri
	ng the requirements of ISO/IEC 27001\, ISO/IEC 27007\, ISO 19011.\n\n[plugi
	nfile.php?file=%2F690%2Fcourse%2Foverviewfiles%2FCIA_Image.jpg]\n\nClick He
	re for Access [1]Export Event [2]\n\nLinks:\n------\n[1] https://academy.cb
	qaglobal.co.id/course/view.php?id=50\n[2] https://academy.cbqaglobal.co.id/
	local/coursetocal/exportcal.php?eventid=16727\n
	
CLASS:PUBLIC
LAST-MODIFIED:20260420T172001Z
DTSTAMP:20260421T112701Z
DTSTART:20260304T230000Z
DTEND:20260306T165900Z
END:VEVENT
END:VCALENDAR
