BEGIN:VCALENDAR
METHOD:PUBLISH
PRODID:-//Moodle Pty Ltd//NONSGML Moodle Version 2024042201//EN
VERSION:2.0
BEGIN:VEVENT
UID:16729@academy.cbqaglobal.co.id
SUMMARY:Certified Lead Auditor ISO/IEC 27001:2022 by Exemplar
DESCRIPTION:CBQA Global’s Certified Lead Auditor program aims to provide tr
	aining for potential Information Security Management Systems (ISMS) Lead Au
	ditors and Auditors. The program is a five-day course designed by our exper
	ienced tutor for you to obtain the knowledge and skills to plan and carry o
	ut internal and third-party audits in compliance with ISO 19011\, ISO/IEC 2
	7006 and ISO/IEC 17021-1 certification.\n\n[pluginfile.php?file=%2F692%2Fco
	urse%2Foverviewfiles%2FCLA_Image.jpg]\n\nClick Here for Access [1]Export Ev
	ent [2]\n\nLinks:\n------\n[1] https://academy.cbqaglobal.co.id/course/view
	.php?id=52\n[2] https://academy.cbqaglobal.co.id/local/coursetocal/exportca
	l.php?eventid=16729\n
	
CLASS:PUBLIC
LAST-MODIFIED:20260421T172001Z
DTSTAMP:20260421T202716Z
DTSTART:20260419T230000Z
DTEND:20260424T100000Z
END:VEVENT
END:VCALENDAR
