BEGIN:VCALENDAR
METHOD:PUBLISH
PRODID:-//Moodle Pty Ltd//NONSGML Moodle Version 2024042201//EN
VERSION:2.0
BEGIN:VEVENT
UID:16771@academy.cbqaglobal.co.id
SUMMARY:Implementation ISO 9001:2015
DESCRIPTION:The IMPLEMENTATION ISO 9001:2015 TRAINING is a TWO-DAY PROGRAM 
	designed to provide a deep understanding of how to IMPLEMENT A QUALITY MANA
	GEMENT SYSTEM (QMS) based on ISO 9001:2015. Participants will learn practic
	al steps to apply the standard to improve quality and operational efficienc
	y within their organization.\n\n[pluginfile.php?file=%2F2127%2Fcourse%2Fove
	rviewfiles%2Fcustomer-review-satisfaction-feedback-survey-concept.jpg]\n\nC
	lick Here for Access [1]Export Event [2]\n\nLinks:\n------\n[1] https://aca
	demy.cbqaglobal.co.id/course/view.php?id=112\n[2] https://academy.cbqagloba
	l.co.id/local/coursetocal/exportcal.php?eventid=16771\n
	
CLASS:PUBLIC
LAST-MODIFIED:20260423T172001Z
DTSTAMP:20260424T093752Z
DTSTART:20260218T020000Z
DTEND:20260219T100000Z
END:VEVENT
END:VCALENDAR
